BEGIN:VCALENDAR
METHOD:PUBLISH
VERSION:2.0
PRODID:-//Eventilla iCal Syndication//NONSGML Liana//EN
BEGIN:VEVENT
UID:rywyv@eventilla.com
DTSTAMP:20250305T080000Z
DTSTART:20250305T080000Z
DTEND:20250328T100000Z
SUMMARY:TFK-ohjelman aluekohtaiset infotilaisuudet\, hakukierros 2025
DESCRIPTION:Team Finland Knowledge-ohjelman tavoitteena on luoda ja vahvistaa suomalaisten korkeakoulujen yhteistyötä TFK-verkoston valittujen kohdealueiden ja -maiden kanssa. Ohjelma rahoittaa korkeakoulujen koulutusyhteistyötä yhteistyö- ja liikkuvuushankkeiden kautta. \nVuonna 2025 TFK-ohjelman kohdealueet ja -maat ovat Eteläinen Afrikka\, Latinalainen Amerikka\, Kaakkois-Aasia (Indonesia\, Malesia\, Singapore\, Thaimaa\, Vietnam)\, Intia ja Kiina. Lisäksi osana TFK-ohjelmaa järjestetään erillinen haku\, jolla tuetaan yhteistyötä ukrainalaisten korkeakoulujen kanssa.\nTervetuloa TFK-ohjelman aluekohtaisiin infotilaisuuksiin maaliskuussa 2025!\nJärjestämme TFK-ohjelman kohdealueille omat infosessiot\, joissa käydään läpi\, millaisiin asioihin tulisi yhteistyötä suunniteltaessa kiinnittää huomiota ja millaisilla yhteistyökuvioilla on mahdollisuuksia menestyä eri kohdealueilla. Aluekohtaiset webinaarit järjestetään yhteistyössä TFK-asiantuntijoiden kanssa seuraavan aikataulun mukaisesti:\nKe 5.3. klo 15.00-16.30 Latinalainen Amerikka\, TFK-erityisasiantuntija Johanna Kivimäki\, Sao Paolo \n(ilmoittautuminen päättyy 3.3. klo 16)\nMa 10.3. klo 10.00-11.30 Kaakkois-Aasia\, TFK-erityisasiantuntija Mika Tirronen\, Singapore\n(ilmoittautuminen päättyy 7.3. klo 12)\nTi 11.3. klo 10.00-11.30 Intia\, TFK-erityisasiantuntija Liisa Toivonen\, New Delhi\n(ilmoittautuminen päättyy 9.3. klo 16)\nTo 27.3. klo 10.00-11.30 Kiina\, TFK-erityisasiantuntija Olli Suominen\, Peking\n(ilmoittautuminen päättyy 25.3. klo 16)\nPe 28.3. klo 10.00-11.30 Eteläinen Afrikka\, TFK-erityisasiantuntija Veera Virmasalo\, Pretoria\n(ilmoittautuminen päättyy 26.3. klo 16)\nIlmoittautuminen päättyy kuhunkin webinaariin kaksi arkipäivää ennen.\nAluekohtaiset webinaarit nauhoitetaan ja materiaalit tallennetaan tälle tapahtumasivulle noin viikon kuluessa webinaarista ja ne ovat saatavilla 2 viikon ajan. Tämän jälkeen voit pyytää kunkin aluekohtaisen webinaarin tallenteen osoitteesta: TFK-programme(at)oph.fi.\nMateriaalit ja tallenteet:\nLatinalainen Amerikka webinaari 5.3. esitys\, Johanna Kivimäki\nKaakkois-Aasia webinaari 10.3. esitys\, Mika Tirronen\nIntia webinaari 11.3. esitys\, Liisa Toivonen\nKiina webinaari 27.3. esitys\, Olli Suominen\nEteläinen Afrikka webinaari 28.3. esitys\, Veera Virmasalo\n \nLue lisää TFK-ohjelmasta ja tutustu hakukierroksen 2025 ohjeisiin
LOCATION:
URL:http://tapahtumat.oph.fi/event/rywyv
END:VEVENT
END:VCALENDAR
