BEGIN:VCALENDAR
METHOD:PUBLISH
VERSION:2.0
PRODID:-//Eventilla iCal Syndication//NONSGML Liana//EN
BEGIN:VEVENT
UID:gok1q@eventilla.com
DTSTAMP:20260121T110000Z
DTSTART:20260121T110000Z
DTEND:20260121T130000Z
SUMMARY:Lisää liikettä ammatilliseen koulutukseen
DESCRIPTION:Webinaarissa esitellään mahdollisuuksia lisätä ja edistää opiskelijoiden liikkumista osana ammatillista koulutusta ja ammatillisen koulutuksen toimintaympäristöä.
LOCATION:Teams
URL:http://tapahtumat.oph.fi/lisaa-liiketta-ammatilliseen-koulutukseen-21-1-26
END:VEVENT
END:VCALENDAR
