BEGIN:VCALENDAR
METHOD:PUBLISH
VERSION:2.0
PRODID:-//Eventilla iCal Syndication//NONSGML Liana//EN
BEGIN:VEVENT
UID:d1D5N@eventilla.com
DTSTAMP:20240910T090000Z
DTSTART:20240910T090000Z
DTEND:20240910T110000Z
SUMMARY:Uppgifter om förskoleundervisning i KOSKI-tjänsten tisdagen 10.9.2024
DESCRIPTION:KOSKI-webbinariet riktar sig till KOSKI-användare inom förskoleundervisningen. Vid webbinariet vi går igenom hur uppgifterna i förskoleundervisningen ska synas i KOSKI-tjänsten och hur uppgifternas kvalitet kan granskas och kontrolleras.
LOCATION:
URL:http://tapahtumat.oph.fi/event/d1D5N
END:VEVENT
END:VCALENDAR
