BEGIN:VCALENDAR
METHOD:PUBLISH
VERSION:2.0
PRODID:-//Eventilla iCal Syndication//NONSGML Liana//EN
BEGIN:VEVENT
UID:Wp1kZ@eventilla.com
DTSTAMP:20260123T080000Z
DTSTART:20260123T080000Z
DTEND:20260124T150000Z
SUMMARY:OPH Educa-messuilla 23.–24.1.2026
DESCRIPTION:Tule tapaamaan opetushallituslaisia kasvatus- ja opetussalan suurimpaan vuosittaiseen tapahtumaan Educaan! \nMessut ovat avoinna perjantaina 23.1. klo 10–19 ja lauantaina  24.1. klo 10–17. Educan monipuolinen ohjelma sisältää korkeatasoisia luentoja\, inspiroivia kohtaamisia kollegoiden kanssa sekä runsaan kattauksen näytteilleasettajia. \nTapahtuman pääteemana on tänä vuonna oikeus opettamisen ja oppimisen iloon.\nNähdään messuosastoillamme\nPäämessuosastomme löytyy Messukeskuksesta läheltä Opettajan olohuonetta (osastopaikka 6m60). Osastolla tapaat  talomme asiantuntijoita\, kuulet Erasmus+- ja NordPlus-ohjelmista ja pääset myös tutustumaan OPH Oppimateriaalit -kustantamomme oppimateriaaleihin ja julkaisuihin.  \nHörnanissa olemme mukana puhtaasti ruotsinkielisellä ohjelmalla. Löydät osastomme Hörnanista läheltä Tieto-lavaa (osastopaikka 6p31). Opetushallitus näyttäytyy messuilla vahvasti kaksikielisenä myös pääosastollaan.    \nOhjelmamme Educassa\nPerjantai 23.1.2026\nklo 12.00–12.30\, Tieto-lavaLaatua ja tehokkuutta tutkintojen perusteiden uudistamiseen – kokemuksia tekoälyn hyödyntämisestä valtionhallinnossa  \nMiten tekoälyagentteja kehitetään tukemaan ja tehostamaan tutkintojen perusteiden uudistamista? Esityksessä kuulet\, miten tekoäly voi tukea asiantuntijan tietotyötä.\nOlemme kehittäneet Opetushallituksessa tekoälyagentteja\, joiden tavoitteena on yhtenäistää osaamisen kuvaamista ammatillisissa tutkinnoissa. Agentit nopeuttavat tutkinnon perusteiden uudistamista sekä parantavat niiden laatua. Tietoperustaisuus lisääntyy ja näin voimme reagoida nopeammin työelämän muuttuviin osaamistarpeisiin. \nLavalla opetusneuvokset Sanna Laiho ja Minna Taivassalo \nklo 12.45–13.15\, Tieto-lavaTaito- ja taideaineet ylioppilastutkinnossa ja yhteiset tutkinnon osat ammatillisessa koulutuksessa – perustiedot uudistuksista puolessa tunnissa  \nOhjelman ensimmäisessä osassa kuulet\, missä mennään taito- ja taideaineiden ylioppilaskokeiden ja lukiodiplomien kehitystyössä. Toisessa osuudessa kerromme\, miten ammatillisten perustutkintojen yhteiset tutkinnon osat ovat uudistuneet.   \nKeväällä 2025 alkanut taito- ja taideaineiden ylioppilaskokeiden valmistelu etenee. Myös lukiodiplomien järjestämistä\, arviointia ja tarjontaa uudistetaan. Esityksessä annamme tilannekatsauksen kehittämistyöhön ja valmistelun jatkoaskeliin.   \nAmmatillisten perustutkintojen yhteiset tutkinnon osat on päivitetty vastaamaan työelämän ja yhteiskunnan osaamistarpeita.  Puheenvuorossa esittelemme\, mitä muutoksia tehtiin ja miten ne vahvistavat opiskelijan tarvitsemaa osaamista. \nLavalla ensin opetusneuvos Mikko Hartikainen OPH:sta ja erityisasiantuntija Thomas Vikberg YTL:stä. Studioisäntänä opetusneuvos Petri Lehikoinen. Toisessa osuudessa asiantuntijana opetusneuvos Tuija Artama ja studioemäntänä opetusneuvos Heli Tirri.\nklo 15.30–16.15\, Seminaarihuone 103Yhdenvertaisuutta koulupolulle – monialaista tukea varhaiskasvatuksesta toiselle asteelle \nMitä voimme oppia lasten ja nuorten osallisuuden ja yhdenvertaisuuden kokemuksista? Lasten\, nuorten ja perheiden palveluita kehittävissä hankkeissa (ESR+) toimivat ammattilaiset sekä viranomaiset keskustelevat nuorten kanssa keinoista rakentaa yhdenvertaista ja turvallista koulupolkua. \nMitä ajatuksia varhaiskasvatuksessa herää\, kun toisella asteella opiskeleva nuori kertoo tuen kokemuksistaan? Entä millaista perspektiiviä pienten oppilaiden tarpeet ja näkemykset antavat ylemmillä koulutusasteilla toimiville? Keskustelussa nostamme esiin lasten ja nuorten kokemuksia sekä hankkeissa yhdessä ammattilaisten ja nuorten kanssa kehitettyjä ratkaisuja. Pohdimme myös\, miten nämä ratkaisut voidaan ottaa käyttöön kasvatuksen ja koulutuksen arjessa niin\, että ne tukevat oppimista ja hyvinvointia. \nKeskustelemassa projektipäällikkö Merja Harmoinen (KNOT – Kaikki nuoret osallisia tulevaisuuteen -hanke (ESR+)\, Kaakkois-Suomen ammattikorkeakoulu)\, projektipäällikkö Ilona Mäki (Väkivallattomuuden tukijat -hanke (ESR+)\, Ensi- ja turvakotien liitto)\, lapsiasiainvaltuutettu Elina Pekkarinen\, opetusneuvos Tanja Väänänen (OPH) sekä hankkeiden kehittäjänuoria. Keskustelun fasilitaattorina toimii erityisasiantuntija Laura Ortju (Lasten\, nuorten ja perheiden koordinaatio (ESR+)\, OPH).  \nKoordinaatiohanketta toteuttavat Opetushallituksen kanssa SOS-Lapsikylä ja Nuorten Akatemia.\nLauantai 24.1.2026 \nklo 10.30–10.50\, Tieto-lavaVarhaiskasvatussuunnitelman perusteet on päivitetty: mikä muuttui ja miksi?\nOpetushallituksen asiantuntijat kertovat\, mikä varhaiskasvatussuunnitelman perusteissa on muuttunut ja mitä pitää jatkossa huomioida paikallisesti varhaiskasvatusta kehitettäessä. Kerromme myös\, minkälaista koulutusta ja tukimateriaalia tarjoamme paikallisen työn tueksi.  \nUudet varhaiskasvatussuunnitelman perusteet otetaan käyttöön arviolta vuoden 2026 alussa. Uudistus perustuu jo voimassa olevaan lakimuutokseen\, jonka myötä varhaiskasvatuksesta on poistunut velvoite laatia paikallinen varhaiskasvatussuunnitelma. Siten myös Opetushallituksen rooli varhaiskasvatuksen kehittäjänä ja paikallisen työn tukena vahvistuu.\nLavalla opetusneuvokset Kati Costiander ja Heidi Usmi.\nklo 10.50–11.00\, Tieto-lavaMillainen on kaikkia osallistava ja yhdenvertainen toimintakulttuuri? – Cygnaeus-palkinto nostaa esiin hyviä esimerkkejäOpetushallituksen ja Kuntaliiton myöntämällä Cygnaeus-palkinnolla 2025 huomioidaan käytäntöjä\, jotka lisäävät yhteisön kaikkien jäsenten osallisuutta ja yhdenvertaisuutta. Palkinnon saajan ovat valinneet yhdenvertaisuuskouluttaja\, Kauppakorkeakoulu Hankenin työelämäprofessori Shadia Rask ja vihreiden kaupunginvaltuutettu\, puolueen varapuheenjohtaja Shawn Huff. Palkinnon luovuttaa Opetushallituksen pääjohtaja Minna Kelhä.  \nklo 11.15–11.45\, Tieto-lavaYhteistyötä\, osallisuutta ja yhdenvertaisuutta – Tuen rakenteet esi- ja perusopetuksesta toiselle asteelle \nMiten oppimisen ja koulunkäynnin tuki rakentuu eri koulutusasteiden välillä? Ohjelmassa asiantuntijamme tarkastelevat erityisesti tuen rakenteita ja nivelvaiheiden sujuvuutta. \nTule kuulemaan\, miten yhteistyö\, osallisuus ja yhdenvertaisuus vahvistavat jatkuvaa oppimisen polkua esiopetuksesta toiselle asteelle. Lisäksi saat tietoa käytännöistä\, jotka tukevat kaikkien oppijoiden hyvinvointia ja oppimista. \nLavalla opetusneuvokset Kati Kaplin-Sainio\, Riia Palmqvist\, Jukka Vetoniemi ja Tarja Heikkinen\nOpetushallitus on mukana myös seuraavissa ohjelmissa\nPerjantai 23.1.2026\nklo 10.30–11.00\, Seminaaritila 103\nYhdenvertaisesti liikkeelle – liikunnallisen elämäntavan ja osallisuuden tukeminen\nPuheenvuoro käsittelee lasten ja nuorten liikkumisen eriarvoisuutta uusimpien tutkimusten valossa sekä toimintaympäristöjä\, jotka tukevat osallisuutta. Esitys tarjoaa konkreettisia esimerkkejä ja inklusiivisia materiaaleja\, joilla voidaan huomioida paremmin vähän liikkuvien lasten tarpeita. Lisäksi luennolla huomioidaan opetusta ohjaavat ajankohtaiset lakimuutokset\, jotka vahvistavat liikunnallisen elämäntavan asemaa koulussa.\nLavalla  johtava asiantuntija Piritta Asunta\, LitT\, dosentti\, Jyväskylän ammattikorkeakoulu\, Likes\nRekisteröidy tapahtumaan\nVoit rekisteröityä tapahtumaan vaikka heti. Tapahtuma on maksuton kaikille rekisteröityneille kasvatus-\, opetus- ja tutkimusalan ammattilaisille. \nRekisteröidy Educa 2026 -messuille
LOCATION:Helsingin Messukeskus\, Messuaukio 1\, 00520\, Helsinki\, Suomi
URL:http://tapahtumat.oph.fi/oph-educa-2026-messuilla
END:VEVENT
END:VCALENDAR
