BEGIN:VCALENDAR
METHOD:PUBLISH
VERSION:2.0
PRODID:-//Eventilla iCal Syndication//NONSGML Liana//EN
BEGIN:VEVENT
UID:VEKQd@eventilla.com
DTSTAMP:20250325T123000Z
DTSTART:20250325T123000Z
DTEND:20250325T133000Z
SUMMARY:Jatkuva oppiminen kuuluu kaikille – JOPPI-teemawebinaari
DESCRIPTION:Webinaarissa tarkastellaan inkluusiota käsitteenä ja käytännön toimintana ammatillisessa oppilaitoksessa ja korkeakoulutuksessa jatkuvan oppimisen näkökulmasta. Webinaarissa saat näkökulmia\, miten voit edistää inkluusiota ja saavutettavuutta omassa työssäsi.
LOCATION:Etäyhteydellä, Teams
URL:http://tapahtumat.oph.fi/event/VEKQd
END:VEVENT
END:VCALENDAR
