BEGIN:VCALENDAR
METHOD:PUBLISH
VERSION:2.0
PRODID:-//Eventilla iCal Syndication//NONSGML Liana//EN
BEGIN:VEVENT
UID:JwzOY@eventilla.com
DTSTAMP:20250616T120000Z
DTSTART:20250616T120000Z
DTEND:20250616T130000Z
SUMMARY:Erasmus+ yleissivistävä koulutus: Beneficiary Module -ohjaustuokio KA121-SCH ja KA122-SCH-hankkeille
DESCRIPTION:Erasmus+ Beneficiary Module -ohjaustuokio on tarkoitettu hyväksytyille Erasmus+ yleissivistävän koulutuksen liikkuvuushankkeille. Erasmus+ Beneficiary Module (BM) peruskäyttö on samanlainen kaikilla liikkuvuushankkeilla\, joten ohjaustuokio on tarkoitettu KA121-SCH ja KA122-SCH -hankkeille.\n\nOhjaustuokiossa keskitytään asiakkaiden omien kysymysten pohjalta liikkuvuusjaksojen luomiseen ja kirjauksiin.
LOCATION:
URL:http://tapahtumat.oph.fi/event/JwzOY
END:VEVENT
END:VCALENDAR
