BEGIN:VCALENDAR
METHOD:PUBLISH
VERSION:2.0
PRODID:-//Eventilla iCal Syndication//NONSGML Liana//EN
BEGIN:VEVENT
UID:1Ewv1@eventilla.com
DTSTAMP:20250127T130000Z
DTSTART:20250127T130000Z
DTEND:20250127T140000Z
SUMMARY:Erasmus+ yleissivistävä koulutus: Osallisuus ja moninaisuus KA1 -liikkuvuushakemuksissa
DESCRIPTION:Katso webinaarin esitysmateriaali tästä linkistä\n \nTämä webinaari on tarkoitettu Erasmus+ yleissivistävän koulutuksen 1) akkreditoiduille ja 2) lyhytkestoista liikkuvuushanketta suunnitteleville. Webinaari on osa KA121-SCH ja KA122-SCH-hakijoille suunnattua hakuinfojen webinaarisarjaa. \nErasmus+ -ohjelma edistää osallisuutta ja moninaisuutta tarjoamalla mahdollisuuksia kansainväliseen kokemukseen ja oppimiseen myös heille\, joilla on vähemmän mahdollisuuksia osallistua esimerkiksi taloudellisten\, terveydellisten\, sosiaalisten\, fyysisten tai kulttuurillisten esteiden takia. Hankkeiden kautta osallistujille maksettava osallisuustuki on merkittävä väline\, jolla pyritään poistamaan esteitä. Tukea voidaan käyttää esimerkiksi ylimääräisiin matkakuluihin\, majoitus- ja elinkustannusten kattamiseen tai erityistarpeisiin\, kuten avustajan\, erityisvälineiden tai mukautetun oppimisympäristön järjestämiseen. Tuen avulla pyritään varmistamaan\, että kaikki osallistujat voivat osallistua täysipainoisesti ja turvallisesti toisessa maassa tapahtuviin opintoihin. \nTämän tunnin aikana käymme läpi\, mitä kaikkea osallisuustuki voisi mahdollistaa ja miten tukea haetaan. Lisätietoa: Osallisuustuki ja poikkeukselliset kulut -sivusto.\nTilaisuuteen ei tarvitse ilmoittautua ennakkoon. Tilaisuuden tallennelinkki on saatavilla tällä sivulla kaksi viikkoa\, minkä jälkeen tallenteen linkin saa pyytämällä osoitteesta erasmus.yleissivistava@oph.fi\nWebbinariumet hållas på finska\, men du kan ställa frågor också på svenska.\n Lisätietoja: erasmus.yleissivistava@oph.fi
LOCATION:
URL:http://tapahtumat.oph.fi/event/1Ewv1
END:VEVENT
END:VCALENDAR
